BEGIN:VCALENDAR
VERSION:2.0
PRODID:-//The PEER 150 - ECPv6.15.20//NONSGML v1.0//EN
CALSCALE:GREGORIAN
METHOD:PUBLISH
X-WR-CALNAME:The PEER 150
X-ORIGINAL-URL:https://thepeer150.com
X-WR-CALDESC:Events for The PEER 150
REFRESH-INTERVAL;VALUE=DURATION:PT1H
X-Robots-Tag:noindex
X-PUBLISHED-TTL:PT1H
BEGIN:VTIMEZONE
TZID:UTC
BEGIN:STANDARD
TZOFFSETFROM:+0000
TZOFFSETTO:+0000
TZNAME:UTC
DTSTART:20230101T000000
END:STANDARD
END:VTIMEZONE
BEGIN:VEVENT
DTSTART;TZID=UTC:20241015T180000
DTEND;TZID=UTC:20241017T120000
DTSTAMP:20260422T160826
CREATED:20240701T224517Z
LAST-MODIFIED:20241014T200940Z
UID:8231-1729015200-1729166400@thepeer150.com
SUMMARY:The PEER 150 - 2024 National Summit
DESCRIPTION:« All Events\n 				\n				\n				\n				\n					\n	The PEER 150 – 2024 National Summit				\n				\n				\n				\n					\n		\n			October 15\, 2024\n\n	\n\n	  @  \n\n\n6:00 pm\n\n	\n\n		\n	\n	  -  \n\n	October 17\, 2024\n\n	\n\n	  @  \n\n\n12:00 pm\n\n\n\n	\n				\n				\n				\n				\n					\n	\n				\n				\n					\n				\n		\n					\n				\n				\n									The Peer 150 National Summit is a premier 2.5-day retreat bringing together 200-250 top HR executives. Engage with dynamic speakers\, participate in interactive workshops\, and tour the headquarters locations in our host city. After nine incredible years in the San Francisco Bay Area\, we’re thrilled to announce that the 2024 Summit will be held in Seattle at the iconic MoPOP Museum. Don’t miss this unique opportunity to connect\, learn\, and grow with industry leaders. 								\n				\n					\n				\n		\n					\n				\n				\n					Event Details				\n				\n					\n				\n		\n					\n		\n				\n				\n									Speakers Mark Brown\, SVP of Global Talent & Inclusion at Starbucks CoffeeStephanie Bastin Wells\, Chief People Officer at WorldlyTammy Perkins\, Chief People Officer at ProService HawaiiRyan Jensen\, Speaker & Workplace Culture Strategist at O.C. TannerAdele Rom\, Sr. Partner Org & Leadership Development at EvolutionHeather Denniston\, CEO at WELLFITandFEDAlex Kweskin\, EVP & CHRO\, Banc of CaliforniaMichelle Y. Smith\, CEO at MoPOP MuseumJovana Teodorovic\, Head of People & Culture at Rover.comKelsey Singleton\, SVP Global People at Stanley 1913Christina Thuy Seafort\, Chief People Officer at Monster EnergyMarissa Andrada\, Chief Transformation Officer at WUFMelissa Lovely\, VP at Nationwide Pet								\n				\n				\n		\n				\n				\n									Hosted Site Visits Rover.com HeadquartersThe MoPOP Museum (Museum of Pop Culture)Stanley 1913 Headquarters								\n				\n				\n				\n																\n															\n															\n				\n				\n					\n				\n		\n					\n				\n				\n							\n			\n		\n						\n				\n				\n				\n					Agenda:				\n				\n					\n				\n		\n					\n		\n				\n				\n					Day 1: Rover.com Headquarters				\n				\n				\n				\n									October 15th\, 2024Address: 720 Olive Wy\, Seattle\, WA 98101 5:30pm: Check-In/Registration6:00pm: Open Networking\, Drinks & Office Tours6:30pm: Dinner Served6:45pm: Opening Comments6:50pm: Rover.com Panel Discussion– Jovana Teodorovic\, Head of People & Culture at Rover.com– Marissa Andrada\, Chief Transformation Officer at WUF World– Melissa Lovely\, VP at Nationwide Pet7:50pm: Additional Networking\, Drinks\, Tours of Rover.com Headquarters8:30pm: Break for Day 2!								\n				\n				\n		\n				\n				\n																														\n				\n				\n					\n				\n		\n					\n				\n				\n							\n			\n		\n						\n				\n					\n				\n		\n					\n		\n				\n				\n					Day 2: MoPOP Museum				\n				\n				\n				\n									October 16th\, 2024Address: 325 5th Ave N\, Seattle\, WA 98109 8:00am: Check-in/Registration8:30am: Opening Keynote – Christina Seafort\, Chief People Officer at Monster Energy9:45am: Ryan Jensen\, Speaker & Workplace Culture Strategist at O.C. Tanner11:00am: Michele Y. Smith\, CEO of MoPOP Museum11:45am: Break for Lunch / Networking12:30pm: Lunch Keynote – Stephanie Bastin-Wells\, EVP\, People at Worldly1:45pm:Main Stage: Alight Solutions Interactive WorkshopBreakout Room: Kunik Interactive Workshop2:45pm: Main Stage: Heather Denniston\, CEO at WELLFITandFEDBreakout Room: Alex Kweskin\, EVP & CHRO at Banc of California3:30pm: Closing Keynote: Tammy Perkins\, Chief People Officer at ProService4:00pm: PEER of the Year Award Announced & Reception\, Live Music\, Drinks & Apps6:00pm: Break for Day 3!								\n				\n				\n		\n				\n				\n																														\n				\n				\n					\n				\n		\n					\n				\n				\n							\n			\n		\n						\n				\n					\n				\n		\n					\n		\n				\n				\n					Day 3: Stanley 1913 Headquarters				\n				\n				\n				\n									October 17th\, 2024Address: 2401 Elliott Ave\, Seattle\, WA 98121 8:30am: Check-In/Registration9:00am: Mark Brown\, SVP Global Talent & Inclusion at Starbucks Coffee10:00am: Interactive Workshop with Adele Rom\, Sr Partner\, Org and Leadership Development at Evolution11:00am: Closing Comments from PEER 150 Team 								\n				\n				\n				\n					\n	\n		\n\n	\n	Add to calendar	\n		\n	\n\n		\n			\n									\n	Google Calendar\n\n									\n	iCalendar\n\n									\n	Outlook 365\n\n									\n	Outlook Live\n\n							\n		\n\n		\n	\n\n				\n				\n				\n		\n				\n				\n																														\n				\n				\n					\n				\n		\n					\n				\n				\n							\n			\n		\n						\n				\n					\n				\n		\n					\n				\n				\n					\n		\n				\n			\n				\n		\n\n\n		\n\n				\n\n					\n		\n						\n				\n					\n				\n		\n					\n				\n				\n									*Registrations are subject to approval/denial at the discretion of The PEER 150 Team.
URL:https://thepeer150.com/event/the-peer-150-2024-national-summit/
LOCATION:The MoPOP Museum\, 325 5th Ave N\, Seattle\, WA\, 98109\, United States
ATTACH;FMTTYPE=image/png:https://thepeer150.com/wp-content/uploads/2024/07/Web-Graphics-10.png
END:VEVENT
END:VCALENDAR