BEGIN:VCALENDAR
VERSION:2.0
PRODID:-//The PEER 150 - ECPv6.15.20//NONSGML v1.0//EN
CALSCALE:GREGORIAN
METHOD:PUBLISH
X-WR-CALNAME:The PEER 150
X-ORIGINAL-URL:https://thepeer150.com
X-WR-CALDESC:Events for The PEER 150
REFRESH-INTERVAL;VALUE=DURATION:PT1H
X-Robots-Tag:noindex
X-PUBLISHED-TTL:PT1H
BEGIN:VTIMEZONE
TZID:UTC
BEGIN:STANDARD
TZOFFSETFROM:+0000
TZOFFSETTO:+0000
TZNAME:UTC
DTSTART:20250101T000000
END:STANDARD
END:VTIMEZONE
BEGIN:VEVENT
DTSTART;TZID=UTC:20260507T180000
DTEND;TZID=UTC:20260507T210000
DTSTAMP:20260423T101646
CREATED:20260203T221822Z
LAST-MODIFIED:20260318T171738Z
UID:14352-1778176800-1778187600@thepeer150.com
SUMMARY:Seattle HR Dinner at the MoPOP Museum
DESCRIPTION:« All Events\n 				\n				\n				\n				\n					\n	Seattle HR Dinner at the MoPOP Museum				\n				\n				\n				\n					\n		\n			May 7\, 2026\n\n	\n\n	  @  \n\n\n6:00 pm\n\n		\n\n\n\n	\n	  -  \n\n9:00 pm\n\n\n\n	\n				\n				\n				\n				\n					\n	\n				\n				\n					\n				\n		\n					\n				\n				\n									PEER 150 Regional Dinners bring together 40-60 of the top HR leaders from the area for an evening of networking\, food\, drinks\, and insightful content from our host organization. These dinners focus on fostering collaboration and often feature tours of the host facility\, interactive workshops\, and a relaxed\, free-flowing atmosphere. Join us for an enriching experience where you can connect with peers\, exchange ideas\, and gain valuable insights in a friendly setting. 								\n				\n				\n				\n					Event Details				\n				\n		\n		\n				\n				\n									Strategic Work Redesign: Unlocking AI-Driven Productivity and Human Potential AI is making employees more productive and efficient at what they do today\, but organizations must intentionally redesign work in order to fully realize both business and employee outcomes. This session introduces a data-backed approach to strategic work redesign\, including principles for blending human and technological contributions to create mutually beneficial jobs for companies and their workers. Based on expert interviews\, global employee data\, and case study examples\, attendees will explore what redesigning work looks like and how redesign efforts can be scaled across the enterprise. Content Led By: Christine Wickland\, Director of Organization Effectiveness at Expedia GroupDr. Lauren Park\, Senior Research Scientist at SAP SuccessFactors 								\n				\n				\n		\n				\n				\n									Hosted By: Michele Y. Smith\, CEO at MoPOPAgenda 6:00pm: Check-In/Registration6:05pm: Open Networking & Dinner Served7:15pm: Presentation and Peer-led content8:00pm: Q&A / Table Discussions8:15pm: Additional Networking9:00pm: Closing Comments and Conclude Dinner								\n				\n				\n				\n					\n	\n		\n\n	\n	Add to calendar	\n		\n	\n\n		\n			\n									\n	Google Calendar\n\n									\n	iCalendar\n\n									\n	Outlook 365\n\n									\n	Outlook Live\n\n							\n		\n\n		\n	\n\n				\n				\n				\n				\n					\n				\n		\n				\n				\n					\n				\n				\n	\n	The MoPOP Museum\n	\n	Address:\n	\n\n325 5th Ave N\n	\n		\n		Seattle\,\n\n	WA\n\n	98109\n\n	United States\n\n\n\n\n	+ Google Map \n\n\n	\n					\n						\n	 \n\n\n	\n	 \n\n\n\n	\n\n\n\n		\n	\n				\n				\n				\n				\n					\n		\n				\n			\n				\n		\n\n\n		\n\n				\n\n					\n		\n						\n				\n				\n		\n					\n				\n				\n							\n			\n		\n						\n				\n				\n				\n					Event Sponsors
URL:https://thepeer150.com/event/seattle-hr-dinner-at-the-mopop-museum/
LOCATION:The MoPOP Museum\, 325 5th Ave N\, Seattle\, WA\, 98109\, United States
ATTACH;FMTTYPE=image/png:https://thepeer150.com/wp-content/uploads/2026/02/Website-Event-Pages-74.png
END:VEVENT
END:VCALENDAR