BEGIN:VCALENDAR
VERSION:2.0
PRODID:-//The PEER 150 - ECPv6.15.20//NONSGML v1.0//EN
CALSCALE:GREGORIAN
METHOD:PUBLISH
X-WR-CALNAME:The PEER 150
X-ORIGINAL-URL:https://thepeer150.com
X-WR-CALDESC:Events for The PEER 150
REFRESH-INTERVAL;VALUE=DURATION:PT1H
X-Robots-Tag:noindex
X-PUBLISHED-TTL:PT1H
BEGIN:VTIMEZONE
TZID:UTC
BEGIN:STANDARD
TZOFFSETFROM:+0000
TZOFFSETTO:+0000
TZNAME:UTC
DTSTART:20250101T000000
END:STANDARD
END:VTIMEZONE
BEGIN:VEVENT
DTSTART;TZID=UTC:20260519T173000
DTEND;TZID=UTC:20260519T210000
DTSTAMP:20260422T155719
CREATED:20241029T021629Z
LAST-MODIFIED:20260406T143518Z
UID:9759-1779211800-1779224400@thepeer150.com
SUMMARY:Nashville HR Dinner at The Gibson Garage
DESCRIPTION:« All Events\n 				\n				\n				\n				\n					\n	Nashville HR Dinner at The Gibson Garage				\n				\n				\n				\n					\n		\n			May 19\, 2026\n\n	\n\n	  @  \n\n\n5:30 pm\n\n		\n\n\n\n	\n	  -  \n\n9:00 pm\n\n\n\n	\n				\n				\n				\n				\n					\n	\n				\n				\n					\n				\n		\n					\n				\n				\n									PEER 150 Regional Dinners bring together 40-60 of the top HR leaders from the area for an evening of networking\, food\, drinks\, and insightful content from our host organization. These dinners focus on fostering collaboration and often feature tours of the host facility\, interactive workshops\, and a relaxed\, free-flowing atmosphere. Join us for an enriching experience where you can connect with peers\, exchange ideas\, and gain valuable insights in a friendly setting. 								\n				\n				\n				\n					Event Details				\n				\n		\n		\n				\n				\n									Hosted By: Linda Lesperance\, VP of Global Human Resources at Gibson Guitars								\n				\n				\n		\n				\n				\n									Agenda 5:30pm: Happy Hour @ Philippe Chow (The Gibson Room)6:30pm: Check-In/Registration at Gibson Garage7:00pm: Opening Comments & Dinner Served7:30pm: Presentation & Peer-Led ContentMarissa Andrada\, Chief Culture Officer at Wuf WorldJulie Bartholic\, VP Future of Work Customer Research at SAP SuccessFactors8:15pm: Q&A / Small Group Discussion8:30pm: Closing Comments 9:00pm: Conclude Dinner								\n				\n				\n				\n					\n	\n		\n\n	\n	Add to calendar	\n		\n	\n\n		\n			\n									\n	Google Calendar\n\n									\n	iCalendar\n\n									\n	Outlook 365\n\n									\n	Outlook Live\n\n							\n		\n\n		\n	\n\n				\n				\n				\n				\n					\n				\n		\n					\n				\n				\n									Session Topic: Redefining How We Measure\, Manage\, and Reward Performance in the AI Era As AI increasingly co-produces work\, the very nature of human contribution is being redefined — and with it\, how organizations design work\, identify and develop talent\, and measure performance.  This session explores three interconnected shifts reshaping the future of work: how roles and HR practices must be redesigned to leverage what humans do best alongside AI. Marissa and Julie will draw on original global research spanning AI’s impact on jobs\, early talent career paths\, and the evolution of performance  – blending research insights with practical examples from the field\, and opening the floor to interactive table discussions on what these shifts mean for your organization. Content Led By: Marissa Andrada\, Chief Culture Officer at Wuf WorldJulie Bartholic\, VP Future of Work Customer Research at SAP SuccessFactors								\n				\n					\n				\n		\n				\n				\n					\n				\n				\n	\n	The Gibson Garage\n	\n	Address:\n	\n\n209 10th Ave S #209\n	\n		\n		Nashville\,\n\n	TN\n\n	37203\n\n	United States\n\n\n\n\n	+ Google Map \n\n\n	\n					\n						\n	 \n\n\n	\n	 \n\n\n\n	\n\n\n\n		\n	\n				\n				\n				\n				\n					\n		\n				\n			\n				\n		\n\n\n		\n\n				\n\n					\n		\n						\n				\n				\n		\n					\n		\n				\n				\n							\n			\n		\n						\n				\n				\n				\n					Event Sponsors
URL:https://thepeer150.com/event/nashville-hr-dinner/
LOCATION:The Gibson Garage\, 209 10th Ave S #209\, Nashville\, TN\, 37203\, United States
ATTACH;FMTTYPE=image/png:https://thepeer150.com/wp-content/uploads/2024/10/Website-Event-Pages-73.png
END:VEVENT
END:VCALENDAR