BEGIN:VCALENDAR
VERSION:2.0
PRODID:-//The PEER 150 - ECPv6.15.20//NONSGML v1.0//EN
CALSCALE:GREGORIAN
METHOD:PUBLISH
X-WR-CALNAME:The PEER 150
X-ORIGINAL-URL:https://thepeer150.com
X-WR-CALDESC:Events for The PEER 150
REFRESH-INTERVAL;VALUE=DURATION:PT1H
X-Robots-Tag:noindex
X-PUBLISHED-TTL:PT1H
BEGIN:VTIMEZONE
TZID:UTC
BEGIN:STANDARD
TZOFFSETFROM:+0000
TZOFFSETTO:+0000
TZNAME:UTC
DTSTART:20250101T000000
END:STANDARD
END:VTIMEZONE
BEGIN:VEVENT
DTSTART;TZID=UTC:20260930T160000
DTEND;TZID=UTC:20260930T200000
DTSTAMP:20260423T095243
CREATED:20260203T215512Z
LAST-MODIFIED:20260303T190128Z
UID:14337-1790784000-1790798400@thepeer150.com
SUMMARY:Minneapolis HR Dinner at Capella Tower
DESCRIPTION:« All Events\n 				\n				\n				\n				\n					\n	Minneapolis HR Dinner at Capella Tower				\n				\n				\n				\n					\n		\n			September 30\, 2026\n\n	\n\n	  @  \n\n\n4:00 pm\n\n		\n\n\n\n	\n	  -  \n\n8:00 pm\n\n\n\n	\n				\n				\n				\n				\n					\n	\n				\n				\n					\n				\n		\n					\n				\n				\n									PEER 150 Regional Dinners bring together 40-60 of the top HR leaders from the area for an evening of networking\, food\, drinks\, and insightful content from our host organization. These dinners focus on fostering collaboration and often feature tours of the host facility\, interactive workshops\, and a relaxed\, free-flowing atmosphere. Join us for an enriching experience where you can connect with peers\, exchange ideas\, and gain valuable insights in a friendly setting. 								\n				\n				\n				\n					Event Details				\n				\n		\n		\n				\n				\n									Discussion Topic: TBD								\n				\n				\n		\n				\n				\n									Agenda 4:00pm: Check-In/Registration4:15pm: Open Networking\, Food & Drinks6:00pm: Dinner Served6:30pm: Presentation and Peer-led content7:30pm: Additional Networking8:00pm: Closing Comments and Conclude Dinner								\n				\n				\n				\n					\n	\n		\n\n	\n	Add to calendar	\n		\n	\n\n		\n			\n									\n	Google Calendar\n\n									\n	iCalendar\n\n									\n	Outlook 365\n\n									\n	Outlook Live\n\n							\n		\n\n		\n	\n\n				\n				\n				\n				\n					\n				\n		\n				\n				\n					\n				\n				\n	\n	The Collaborative at Capella Tower\n	\n	Address:\n	\n\n225 South 6th St\n	\n		\n		Minneapolis\,\n\n	MN\n\n	55402\n\n	United States\n\n\n\n\n	+ Google Map \n\n\n	\n					\n						\n	 \n\n\n	\n	 \n\n\n\n	\n\n\n\n		\n	\n				\n				\n				\n				\n					\n		\n				\n			\n				\n		\n\n\n		\n\n				\n\n					\n		\n						\n				\n				\n		\n					\n		\n				\n				\n							\n			\n		\n						\n				\n				\n				\n					Event Sponsors
URL:https://thepeer150.com/event/minneapolis-hr-dinner-at-capella-tower-2026/
LOCATION:The Collaborative at Capella Tower\, 225 South 6th St\, Minneapolis\, MN\, 55402\, United States
ATTACH;FMTTYPE=image/png:https://thepeer150.com/wp-content/uploads/2026/02/Website-Event-Pages-56.png
END:VEVENT
END:VCALENDAR