BEGIN:VCALENDAR
VERSION:2.0
PRODID:-//The PEER 150 - ECPv6.15.20//NONSGML v1.0//EN
CALSCALE:GREGORIAN
METHOD:PUBLISH
X-WR-CALNAME:The PEER 150
X-ORIGINAL-URL:https://thepeer150.com
X-WR-CALDESC:Events for The PEER 150
REFRESH-INTERVAL;VALUE=DURATION:PT1H
X-Robots-Tag:noindex
X-PUBLISHED-TTL:PT1H
BEGIN:VTIMEZONE
TZID:UTC
BEGIN:STANDARD
TZOFFSETFROM:+0000
TZOFFSETTO:+0000
TZNAME:UTC
DTSTART:20250101T000000
END:STANDARD
END:VTIMEZONE
BEGIN:VEVENT
DTSTART;TZID=UTC:20260521T170000
DTEND;TZID=UTC:20260521T200000
DTSTAMP:20260423T102928
CREATED:20260203T224505Z
LAST-MODIFIED:20260223T180635Z
UID:14372-1779382800-1779393600@thepeer150.com
SUMMARY:Chicago HR Dinner at The University Club
DESCRIPTION:« All Events\n 				\n				\n				\n				\n					\n	Chicago HR Dinner at The University Club				\n				\n				\n				\n					\n		\n			May 21\, 2026\n\n	\n\n	  @  \n\n\n5:00 pm\n\n		\n\n\n\n	\n	  -  \n\n8:00 pm\n\n\n\n	\n				\n				\n				\n				\n					\n	\n				\n				\n					\n				\n		\n					\n				\n				\n									PEER 150 Regional Dinners bring together 40-60 of the top HR leaders from the area for an evening of networking\, food\, drinks\, and insightful content from our host organization. These dinners focus on fostering collaboration and often feature tours of the host facility\, interactive workshops\, and a relaxed\, free-flowing atmosphere. Join us for an enriching experience where you can connect with peers\, exchange ideas\, and gain valuable insights in a friendly setting. 								\n				\n				\n				\n					Event Details				\n				\n		\n		\n				\n				\n									Speakers: Kim Beauvais\, EVP\, HR & Business Operations at FOX SportsDr. Caitlynn Sendra\, Senior Research Scientist at SAP SuccessFactorsReinventing Early Talent: Preparing the Next Generation for the Future of Work Traditional pathways into the workforce are eroding\, creating new challenges—and opportunities—for how organizations can best leverage early career talent. This session explores how education models\, skill-building pathways\, and organizational practices must evolve to help early talent succeed amid automation\, alternative work models\, and shifting expectations. Drawing on original global research\, attendees explore how to transform recruiting\, onboarding\, and development to ensure they are cultivating their benchstrength of tomorrow. 								\n				\n				\n		\n				\n				\n									Agenda 5:00pm: Check-In/Registration5:15pm: Open Networking\, Food & Drinks6:00pm: Dinner Served6:45pm: Presentation and Peer-led content7:45pm: Additional Networking8:00pm: Closing Comments and Conclude Dinner								\n				\n				\n				\n					\n	\n		\n\n	\n	Add to calendar	\n		\n	\n\n		\n			\n									\n	Google Calendar\n\n									\n	iCalendar\n\n									\n	Outlook 365\n\n									\n	Outlook Live\n\n							\n		\n\n		\n	\n\n				\n				\n				\n				\n					\n				\n		\n				\n				\n					\n				\n				\n	\n	The University Club Chicago\n	\n	Address:\n	\n\n76 East Monroe Street\n	\n		\n		Chicago\,\n\n	IL\n\n	60603\n\n	United States\n\n\n\n\n	+ Google Map \n\n\n	\n					\n						\n	 \n\n\n	\n	 \n\n\n\n	\n\n\n\n		\n	\n				\n				\n				\n				\n					\n		\n				\n			\n				\n		\n\n\n		\n\n				\n\n					\n		\n						\n				\n				\n		\n					\n		\n		\n				\n				\n							\n			\n		\n						\n				\n				\n				\n					Event Sponsors
URL:https://thepeer150.com/event/chicago-hr-dinner-at-the-university-club/
LOCATION:The University Club Chicago\, 76 East Monroe Street\, Chicago\, IL\, 60603\, United States
ATTACH;FMTTYPE=image/png:https://thepeer150.com/wp-content/uploads/2026/02/Website-Event-Pages-59.png
END:VEVENT
END:VCALENDAR